BEGIN:VCALENDAR
VERSION:2.0
PRODID:-//Bomenmuseum - ECPv6.15.20//NONSGML v1.0//EN
CALSCALE:GREGORIAN
METHOD:PUBLISH
X-WR-CALNAME:Bomenmuseum
X-ORIGINAL-URL:https://ticket.bomenmuseum.nl
X-WR-CALDESC:Evenementen voor Bomenmuseum
REFRESH-INTERVAL;VALUE=DURATION:PT1H
X-Robots-Tag:noindex
X-PUBLISHED-TTL:PT1H
BEGIN:VTIMEZONE
TZID:Europe/Amsterdam
BEGIN:DAYLIGHT
TZOFFSETFROM:+0100
TZOFFSETTO:+0200
TZNAME:CEST
DTSTART:20190331T010000
END:DAYLIGHT
BEGIN:STANDARD
TZOFFSETFROM:+0200
TZOFFSETTO:+0100
TZNAME:CET
DTSTART:20191027T010000
END:STANDARD
BEGIN:DAYLIGHT
TZOFFSETFROM:+0100
TZOFFSETTO:+0200
TZNAME:CEST
DTSTART:20200329T010000
END:DAYLIGHT
BEGIN:STANDARD
TZOFFSETFROM:+0200
TZOFFSETTO:+0100
TZNAME:CET
DTSTART:20201025T010000
END:STANDARD
BEGIN:DAYLIGHT
TZOFFSETFROM:+0100
TZOFFSETTO:+0200
TZNAME:CEST
DTSTART:20210328T010000
END:DAYLIGHT
BEGIN:STANDARD
TZOFFSETFROM:+0200
TZOFFSETTO:+0100
TZNAME:CET
DTSTART:20211031T010000
END:STANDARD
END:VTIMEZONE
BEGIN:VEVENT
DTSTART;TZID=Europe/Amsterdam:20201015T080000
DTEND;TZID=Europe/Amsterdam:20201015T190000
DTSTAMP:20260425T223616
CREATED:20201009T081429Z
LAST-MODIFIED:20201009T081429Z
UID:10000919-1602748800-1602788400@ticket.bomenmuseum.nl
SUMMARY:Toegangsticket
DESCRIPTION:
URL:https://ticket.bomenmuseum.nl/evenement/toegangsticket-39/
LOCATION:Bomenmuseum\, Velperengh 13\, Doorn\, Utrecht\, 3941BZ\, Nederland
END:VEVENT
BEGIN:VEVENT
DTSTART;TZID=Europe/Amsterdam:20201015T110000
DTEND;TZID=Europe/Amsterdam:20201015T170000
DTSTAMP:20260425T223616
CREATED:20201009T080648Z
LAST-MODIFIED:20201009T080648Z
UID:10001132-1602759600-1602781200@ticket.bomenmuseum.nl
SUMMARY:Toegangsticket inclusief catalogus Ode aan de Natuur
DESCRIPTION:
URL:https://ticket.bomenmuseum.nl/evenement/toegangsticket-inclusief-catalogus-ode-aan-de-natuur-39/
LOCATION:Bomenmuseum\, Velperengh 13\, Doorn\, Utrecht\, 3941BZ\, Nederland
END:VEVENT
END:VCALENDAR