BEGIN:VCALENDAR
VERSION:2.0
PRODID:-//Bomenmuseum - ECPv6.15.20//NONSGML v1.0//EN
CALSCALE:GREGORIAN
METHOD:PUBLISH
X-ORIGINAL-URL:https://ticket.bomenmuseum.nl
X-WR-CALDESC:Evenementen voor Bomenmuseum
REFRESH-INTERVAL;VALUE=DURATION:PT1H
X-Robots-Tag:noindex
X-PUBLISHED-TTL:PT1H
BEGIN:VTIMEZONE
TZID:Europe/Amsterdam
BEGIN:DAYLIGHT
TZOFFSETFROM:+0100
TZOFFSETTO:+0200
TZNAME:CEST
DTSTART:20190331T010000
END:DAYLIGHT
BEGIN:STANDARD
TZOFFSETFROM:+0200
TZOFFSETTO:+0100
TZNAME:CET
DTSTART:20191027T010000
END:STANDARD
BEGIN:DAYLIGHT
TZOFFSETFROM:+0100
TZOFFSETTO:+0200
TZNAME:CEST
DTSTART:20200329T010000
END:DAYLIGHT
BEGIN:STANDARD
TZOFFSETFROM:+0200
TZOFFSETTO:+0100
TZNAME:CET
DTSTART:20201025T010000
END:STANDARD
BEGIN:DAYLIGHT
TZOFFSETFROM:+0100
TZOFFSETTO:+0200
TZNAME:CEST
DTSTART:20210328T010000
END:DAYLIGHT
BEGIN:STANDARD
TZOFFSETFROM:+0200
TZOFFSETTO:+0100
TZNAME:CET
DTSTART:20211031T010000
END:STANDARD
END:VTIMEZONE
BEGIN:VEVENT
DTSTART;TZID=Europe/Amsterdam:20201018T080000
DTEND;TZID=Europe/Amsterdam:20201018T190000
DTSTAMP:20260425T180558
CREATED:20201009T081823Z
LAST-MODIFIED:20201009T081823Z
UID:10000925-1603008000-1603047600@ticket.bomenmuseum.nl
SUMMARY:Toegangsticket
DESCRIPTION:
URL:https://ticket.bomenmuseum.nl/evenement/toegangsticket-42/
LOCATION:Bomenmuseum\, Velperengh 13\, Doorn\, Utrecht\, 3941BZ\, Nederland
END:VEVENT
BEGIN:VEVENT
DTSTART;TZID=Europe/Amsterdam:20201018T110000
DTEND;TZID=Europe/Amsterdam:20201018T170000
DTSTAMP:20260425T180558
CREATED:20201009T081050Z
LAST-MODIFIED:20201009T081050Z
UID:10001139-1603018800-1603040400@ticket.bomenmuseum.nl
SUMMARY:Toegangsticket inclusief catalogus Ode aan de Natuur
DESCRIPTION:
URL:https://ticket.bomenmuseum.nl/evenement/toegangsticket-inclusief-catalogus-ode-aan-de-natuur-42/
LOCATION:Bomenmuseum\, Velperengh 13\, Doorn\, Utrecht\, 3941BZ\, Nederland
END:VEVENT
BEGIN:VEVENT
DTSTART;TZID=Europe/Amsterdam:20201018T140000
DTEND;TZID=Europe/Amsterdam:20201018T160000
DTSTAMP:20260425T180558
CREATED:20200930T073758Z
LAST-MODIFIED:20200930T073758Z
UID:10001125-1603029600-1603036800@ticket.bomenmuseum.nl
SUMMARY:Themawandeling Herfstkleuren 18 oktober
DESCRIPTION:
URL:https://ticket.bomenmuseum.nl/evenement/themawandeling-herfstkleuren-18-oktober/
LOCATION:Bomenmuseum\, Velperengh 13\, Doorn\, Utrecht\, 3941BZ\, Nederland
END:VEVENT
END:VCALENDAR