BEGIN:VCALENDAR
VERSION:2.0
PRODID:-//Bomenmuseum - ECPv6.15.20//NONSGML v1.0//EN
CALSCALE:GREGORIAN
METHOD:PUBLISH
X-ORIGINAL-URL:https://ticket.bomenmuseum.nl
X-WR-CALDESC:Evenementen voor Bomenmuseum
REFRESH-INTERVAL;VALUE=DURATION:PT1H
X-Robots-Tag:noindex
X-PUBLISHED-TTL:PT1H
BEGIN:VTIMEZONE
TZID:Europe/Amsterdam
BEGIN:DAYLIGHT
TZOFFSETFROM:+0100
TZOFFSETTO:+0200
TZNAME:CEST
DTSTART:20200329T010000
END:DAYLIGHT
BEGIN:STANDARD
TZOFFSETFROM:+0200
TZOFFSETTO:+0100
TZNAME:CET
DTSTART:20201025T010000
END:STANDARD
BEGIN:DAYLIGHT
TZOFFSETFROM:+0100
TZOFFSETTO:+0200
TZNAME:CEST
DTSTART:20210328T010000
END:DAYLIGHT
BEGIN:STANDARD
TZOFFSETFROM:+0200
TZOFFSETTO:+0100
TZNAME:CET
DTSTART:20211031T010000
END:STANDARD
BEGIN:DAYLIGHT
TZOFFSETFROM:+0100
TZOFFSETTO:+0200
TZNAME:CEST
DTSTART:20220327T010000
END:DAYLIGHT
BEGIN:STANDARD
TZOFFSETFROM:+0200
TZOFFSETTO:+0100
TZNAME:CET
DTSTART:20221030T010000
END:STANDARD
END:VTIMEZONE
BEGIN:VEVENT
DTSTART;TZID=Europe/Amsterdam:20210520T080000
DTEND;TZID=Europe/Amsterdam:20210520T100000
DTSTAMP:20260424T071608
CREATED:20210517T133516Z
LAST-MODIFIED:20210517T135338Z
UID:10001231-1621497600-1621504800@ticket.bomenmuseum.nl
SUMMARY:Toegangsticket 20 mei | 8.00-10.00 uur
DESCRIPTION:
URL:https://ticket.bomenmuseum.nl/evenement/toegangsticket-20-mei-8-00-10-00-uur/
LOCATION:Bomenmuseum\, Velperengh 13\, Doorn\, Utrecht\, 3941BZ\, Nederland
END:VEVENT
BEGIN:VEVENT
DTSTART;TZID=Europe/Amsterdam:20210520T100000
DTEND;TZID=Europe/Amsterdam:20210520T120000
DTSTAMP:20260424T071608
CREATED:20210517T140306Z
LAST-MODIFIED:20210517T140306Z
UID:10001233-1621504800-1621512000@ticket.bomenmuseum.nl
SUMMARY:Toegangsticket 20 mei | 10.00-12.00 uur
DESCRIPTION:
URL:https://ticket.bomenmuseum.nl/evenement/toegangsticket-20-mei-10-00-12-00-uur/
LOCATION:Bomenmuseum\, Velperengh 13\, Doorn\, Utrecht\, 3941BZ\, Nederland
END:VEVENT
BEGIN:VEVENT
DTSTART;TZID=Europe/Amsterdam:20210520T120000
DTEND;TZID=Europe/Amsterdam:20210520T140000
DTSTAMP:20260424T071608
CREATED:20210517T140441Z
LAST-MODIFIED:20210517T140441Z
UID:10001235-1621512000-1621519200@ticket.bomenmuseum.nl
SUMMARY:Toegangsticket 20 mei | 12.00-14.00 uur
DESCRIPTION:
URL:https://ticket.bomenmuseum.nl/evenement/toegangsticket-20-mei-12-00-14-00-uur/
LOCATION:Bomenmuseum\, Velperengh 13\, Doorn\, Utrecht\, 3941BZ\, Nederland
END:VEVENT
BEGIN:VEVENT
DTSTART;TZID=Europe/Amsterdam:20210520T140000
DTEND;TZID=Europe/Amsterdam:20210520T160000
DTSTAMP:20260424T071608
CREATED:20210517T140825Z
LAST-MODIFIED:20210517T140825Z
UID:10001237-1621519200-1621526400@ticket.bomenmuseum.nl
SUMMARY:Toegangsticket 20 mei | 14.00-16.00 uur
DESCRIPTION:
URL:https://ticket.bomenmuseum.nl/evenement/toegangsticket-20-mei-14-00-16-00-uur/
LOCATION:Bomenmuseum\, Velperengh 13\, Doorn\, Utrecht\, 3941BZ\, Nederland
END:VEVENT
BEGIN:VEVENT
DTSTART;TZID=Europe/Amsterdam:20210520T160000
DTEND;TZID=Europe/Amsterdam:20210520T190000
DTSTAMP:20260424T071608
CREATED:20210517T141016Z
LAST-MODIFIED:20210517T141016Z
UID:10001239-1621526400-1621537200@ticket.bomenmuseum.nl
SUMMARY:Toegangsticket 20 mei | 16.00-19.00 uur
DESCRIPTION:
URL:https://ticket.bomenmuseum.nl/evenement/toegangsticket-20-mei-16-00-19-00-uur/
LOCATION:Bomenmuseum\, Velperengh 13\, Doorn\, Utrecht\, 3941BZ\, Nederland
END:VEVENT
END:VCALENDAR