BEGIN:VCALENDAR
VERSION:2.0
PRODID:-//Bomenmuseum - ECPv6.15.20//NONSGML v1.0//EN
CALSCALE:GREGORIAN
METHOD:PUBLISH
X-ORIGINAL-URL:https://ticket.bomenmuseum.nl
X-WR-CALDESC:Evenementen voor Bomenmuseum
REFRESH-INTERVAL;VALUE=DURATION:PT1H
X-Robots-Tag:noindex
X-PUBLISHED-TTL:PT1H
BEGIN:VTIMEZONE
TZID:Europe/Amsterdam
BEGIN:DAYLIGHT
TZOFFSETFROM:+0100
TZOFFSETTO:+0200
TZNAME:CEST
DTSTART:20200329T010000
END:DAYLIGHT
BEGIN:STANDARD
TZOFFSETFROM:+0200
TZOFFSETTO:+0100
TZNAME:CET
DTSTART:20201025T010000
END:STANDARD
BEGIN:DAYLIGHT
TZOFFSETFROM:+0100
TZOFFSETTO:+0200
TZNAME:CEST
DTSTART:20210328T010000
END:DAYLIGHT
BEGIN:STANDARD
TZOFFSETFROM:+0200
TZOFFSETTO:+0100
TZNAME:CET
DTSTART:20211031T010000
END:STANDARD
BEGIN:DAYLIGHT
TZOFFSETFROM:+0100
TZOFFSETTO:+0200
TZNAME:CEST
DTSTART:20220327T010000
END:DAYLIGHT
BEGIN:STANDARD
TZOFFSETFROM:+0200
TZOFFSETTO:+0100
TZNAME:CET
DTSTART:20221030T010000
END:STANDARD
END:VTIMEZONE
BEGIN:VEVENT
DTSTART;TZID=Europe/Amsterdam:20210524T080000
DTEND;TZID=Europe/Amsterdam:20210524T100000
DTSTAMP:20260424T071607
CREATED:20210517T143922Z
LAST-MODIFIED:20210517T143922Z
UID:10000982-1621843200-1621850400@ticket.bomenmuseum.nl
SUMMARY:Toegangsticket 24 mei | 8.00-10.00 uur
DESCRIPTION:
URL:https://ticket.bomenmuseum.nl/evenement/toegangsticket-24-mei-8-00-10-00-uur/
LOCATION:Bomenmuseum\, Velperengh 13\, Doorn\, Utrecht\, 3941BZ\, Nederland
END:VEVENT
BEGIN:VEVENT
DTSTART;TZID=Europe/Amsterdam:20210524T100000
DTEND;TZID=Europe/Amsterdam:20210524T120000
DTSTAMP:20260424T071607
CREATED:20210517T144036Z
LAST-MODIFIED:20210517T144036Z
UID:10000983-1621850400-1621857600@ticket.bomenmuseum.nl
SUMMARY:Toegangsticket 24 mei | 10.00-12.00 uur
DESCRIPTION:
URL:https://ticket.bomenmuseum.nl/evenement/toegangsticket-24-mei-10-00-12-00-uur/
LOCATION:Bomenmuseum\, Velperengh 13\, Doorn\, Utrecht\, 3941BZ\, Nederland
END:VEVENT
BEGIN:VEVENT
DTSTART;TZID=Europe/Amsterdam:20210524T120000
DTEND;TZID=Europe/Amsterdam:20210524T140000
DTSTAMP:20260424T071607
CREATED:20210517T144319Z
LAST-MODIFIED:20210517T144319Z
UID:10000984-1621857600-1621864800@ticket.bomenmuseum.nl
SUMMARY:Toegangsticket 24 mei | 12.00-14.00 uur
DESCRIPTION:
URL:https://ticket.bomenmuseum.nl/evenement/toegangsticket-24-mei-12-00-14-00-uur/
LOCATION:Bomenmuseum\, Velperengh 13\, Doorn\, Utrecht\, 3941BZ\, Nederland
END:VEVENT
BEGIN:VEVENT
DTSTART;TZID=Europe/Amsterdam:20210524T140000
DTEND;TZID=Europe/Amsterdam:20210524T160000
DTSTAMP:20260424T071607
CREATED:20210517T144441Z
LAST-MODIFIED:20210524T095035Z
UID:10000985-1621864800-1621872000@ticket.bomenmuseum.nl
SUMMARY:Toegangsticket 24 mei | 14.00-16.00 uur
DESCRIPTION:
URL:https://ticket.bomenmuseum.nl/evenement/toegangsticket-24-mei-14-00-16-00-uur/
LOCATION:Bomenmuseum\, Velperengh 13\, Doorn\, Utrecht\, 3941BZ\, Nederland
END:VEVENT
BEGIN:VEVENT
DTSTART;TZID=Europe/Amsterdam:20210524T160000
DTEND;TZID=Europe/Amsterdam:20210524T190000
DTSTAMP:20260424T071607
CREATED:20210517T144622Z
LAST-MODIFIED:20210517T144622Z
UID:10000986-1621872000-1621882800@ticket.bomenmuseum.nl
SUMMARY:Toegangsticket 24 mei | 16.00-19.00 uur
DESCRIPTION:
URL:https://ticket.bomenmuseum.nl/evenement/toegangsticket-24-mei-16-00-19-00-uur/
LOCATION:Bomenmuseum\, Velperengh 13\, Doorn\, Utrecht\, 3941BZ\, Nederland
END:VEVENT
END:VCALENDAR