BEGIN:VCALENDAR
VERSION:2.0
PRODID:-//Bomenmuseum - ECPv6.15.20//NONSGML v1.0//EN
CALSCALE:GREGORIAN
METHOD:PUBLISH
X-WR-CALNAME:Bomenmuseum
X-ORIGINAL-URL:https://ticket.bomenmuseum.nl
X-WR-CALDESC:Evenementen voor Bomenmuseum
REFRESH-INTERVAL;VALUE=DURATION:PT1H
X-Robots-Tag:noindex
X-PUBLISHED-TTL:PT1H
BEGIN:VTIMEZONE
TZID:Europe/Amsterdam
BEGIN:DAYLIGHT
TZOFFSETFROM:+0100
TZOFFSETTO:+0200
TZNAME:CEST
DTSTART:20200329T010000
END:DAYLIGHT
BEGIN:STANDARD
TZOFFSETFROM:+0200
TZOFFSETTO:+0100
TZNAME:CET
DTSTART:20201025T010000
END:STANDARD
BEGIN:DAYLIGHT
TZOFFSETFROM:+0100
TZOFFSETTO:+0200
TZNAME:CEST
DTSTART:20210328T010000
END:DAYLIGHT
BEGIN:STANDARD
TZOFFSETFROM:+0200
TZOFFSETTO:+0100
TZNAME:CET
DTSTART:20211031T010000
END:STANDARD
BEGIN:DAYLIGHT
TZOFFSETFROM:+0100
TZOFFSETTO:+0200
TZNAME:CEST
DTSTART:20220327T010000
END:DAYLIGHT
BEGIN:STANDARD
TZOFFSETFROM:+0200
TZOFFSETTO:+0100
TZNAME:CET
DTSTART:20221030T010000
END:STANDARD
END:VTIMEZONE
BEGIN:VEVENT
DTSTART;TZID=Europe/Amsterdam:20210525T080000
DTEND;TZID=Europe/Amsterdam:20210525T100000
DTSTAMP:20260424T071613
CREATED:20210520T125700Z
LAST-MODIFIED:20210520T131725Z
UID:10000987-1621929600-1621936800@ticket.bomenmuseum.nl
SUMMARY:Toegangsticket 25 mei | 8.00-10.00 uur
DESCRIPTION:
URL:https://ticket.bomenmuseum.nl/evenement/toegangsticket-25-mei/
LOCATION:Bomenmuseum\, Velperengh 13\, Doorn\, Utrecht\, 3941BZ\, Nederland
END:VEVENT
BEGIN:VEVENT
DTSTART;TZID=Europe/Amsterdam:20210525T100000
DTEND;TZID=Europe/Amsterdam:20210525T120000
DTSTAMP:20260424T071613
CREATED:20210520T125820Z
LAST-MODIFIED:20210520T173630Z
UID:10000988-1621936800-1621944000@ticket.bomenmuseum.nl
SUMMARY:Toegangsticket 25 mei | 10.00-12.00 uur
DESCRIPTION:
URL:https://ticket.bomenmuseum.nl/evenement/toegangsticket-25-mei-2/
LOCATION:Bomenmuseum\, Velperengh 13\, Doorn\, Utrecht\, 3941BZ\, Nederland
END:VEVENT
BEGIN:VEVENT
DTSTART;TZID=Europe/Amsterdam:20210525T120000
DTEND;TZID=Europe/Amsterdam:20210525T140000
DTSTAMP:20260424T071613
CREATED:20210520T130318Z
LAST-MODIFIED:20210520T131816Z
UID:10000989-1621944000-1621951200@ticket.bomenmuseum.nl
SUMMARY:Toegangsticket 25 mei | 12.00-14.00 uur
DESCRIPTION:
URL:https://ticket.bomenmuseum.nl/evenement/toegangsticket-25-mei-3/
LOCATION:Bomenmuseum\, Velperengh 13\, Doorn\, Utrecht\, 3941BZ\, Nederland
END:VEVENT
BEGIN:VEVENT
DTSTART;TZID=Europe/Amsterdam:20210525T140000
DTEND;TZID=Europe/Amsterdam:20210525T160000
DTSTAMP:20260424T071613
CREATED:20210520T131441Z
LAST-MODIFIED:20210520T131838Z
UID:10001282-1621951200-1621958400@ticket.bomenmuseum.nl
SUMMARY:Toegangsticket 25 mei | 14.00-16.00 uur
DESCRIPTION:
URL:https://ticket.bomenmuseum.nl/evenement/toegangsticket-25-mei-14-00-16-00-uur/
LOCATION:Bomenmuseum\, Velperengh 13\, Doorn\, Utrecht\, 3941BZ\, Nederland
END:VEVENT
BEGIN:VEVENT
DTSTART;TZID=Europe/Amsterdam:20210525T160000
DTEND;TZID=Europe/Amsterdam:20210525T190000
DTSTAMP:20260424T071613
CREATED:20210520T131613Z
LAST-MODIFIED:20210520T131613Z
UID:10001284-1621958400-1621969200@ticket.bomenmuseum.nl
SUMMARY:Toegangsticket 25 mei | 16.00-19.00 uur
DESCRIPTION:
URL:https://ticket.bomenmuseum.nl/evenement/toegangsticket-25-mei-16-00-19-00-uur/
LOCATION:Bomenmuseum\, Velperengh 13\, Doorn\, Utrecht\, 3941BZ\, Nederland
END:VEVENT
END:VCALENDAR