BEGIN:VCALENDAR
VERSION:2.0
PRODID:-//Bomenmuseum - ECPv6.15.20//NONSGML v1.0//EN
CALSCALE:GREGORIAN
METHOD:PUBLISH
X-ORIGINAL-URL:https://ticket.bomenmuseum.nl
X-WR-CALDESC:Evenementen voor Bomenmuseum
REFRESH-INTERVAL;VALUE=DURATION:PT1H
X-Robots-Tag:noindex
X-PUBLISHED-TTL:PT1H
BEGIN:VTIMEZONE
TZID:Europe/Amsterdam
BEGIN:DAYLIGHT
TZOFFSETFROM:+0100
TZOFFSETTO:+0200
TZNAME:CEST
DTSTART:20200329T010000
END:DAYLIGHT
BEGIN:STANDARD
TZOFFSETFROM:+0200
TZOFFSETTO:+0100
TZNAME:CET
DTSTART:20201025T010000
END:STANDARD
BEGIN:DAYLIGHT
TZOFFSETFROM:+0100
TZOFFSETTO:+0200
TZNAME:CEST
DTSTART:20210328T010000
END:DAYLIGHT
BEGIN:STANDARD
TZOFFSETFROM:+0200
TZOFFSETTO:+0100
TZNAME:CET
DTSTART:20211031T010000
END:STANDARD
BEGIN:DAYLIGHT
TZOFFSETFROM:+0100
TZOFFSETTO:+0200
TZNAME:CEST
DTSTART:20220327T010000
END:DAYLIGHT
BEGIN:STANDARD
TZOFFSETFROM:+0200
TZOFFSETTO:+0100
TZNAME:CET
DTSTART:20221030T010000
END:STANDARD
END:VTIMEZONE
BEGIN:VEVENT
DTSTART;TZID=Europe/Amsterdam:20210530T080000
DTEND;TZID=Europe/Amsterdam:20210530T100000
DTSTAMP:20260424T054340
CREATED:20210525T135556Z
LAST-MODIFIED:20210525T135556Z
UID:10000999-1622361600-1622368800@ticket.bomenmuseum.nl
SUMMARY:Toegangsticket 30 mei | 8.00-10.00 uur
DESCRIPTION:
URL:https://ticket.bomenmuseum.nl/evenement/toegangsticket-30-mei-8-00-10-00-uur/
LOCATION:Bomenmuseum\, Velperengh 13\, Doorn\, Utrecht\, 3941BZ\, Nederland
END:VEVENT
BEGIN:VEVENT
DTSTART;TZID=Europe/Amsterdam:20210530T100000
DTEND;TZID=Europe/Amsterdam:20210530T120000
DTSTAMP:20260424T054340
CREATED:20210525T135701Z
LAST-MODIFIED:20210526T114505Z
UID:10001296-1622368800-1622376000@ticket.bomenmuseum.nl
SUMMARY:Toegangsticket 30 mei | 10.00-12.00 uur
DESCRIPTION:
URL:https://ticket.bomenmuseum.nl/evenement/toegangsticket-30-mei-10-00-12-00-uur/
LOCATION:Bomenmuseum\, Velperengh 13\, Doorn\, Utrecht\, 3941BZ\, Nederland
END:VEVENT
BEGIN:VEVENT
DTSTART;TZID=Europe/Amsterdam:20210530T120000
DTEND;TZID=Europe/Amsterdam:20210530T140000
DTSTAMP:20260424T054340
CREATED:20210525T135817Z
LAST-MODIFIED:20210526T114610Z
UID:10001297-1622376000-1622383200@ticket.bomenmuseum.nl
SUMMARY:Toegangsticket 30 mei | 12.00-14.00 uur
DESCRIPTION:
URL:https://ticket.bomenmuseum.nl/evenement/toegangsticket-30-mei-12-00-14-00-uur/
LOCATION:Bomenmuseum\, Velperengh 13\, Doorn\, Utrecht\, 3941BZ\, Nederland
END:VEVENT
BEGIN:VEVENT
DTSTART;TZID=Europe/Amsterdam:20210530T140000
DTEND;TZID=Europe/Amsterdam:20210530T160000
DTSTAMP:20260424T054340
CREATED:20210525T135933Z
LAST-MODIFIED:20210526T114714Z
UID:10001298-1622383200-1622390400@ticket.bomenmuseum.nl
SUMMARY:Toegangsticket 30 mei | 14.00-16.00 uur
DESCRIPTION:
URL:https://ticket.bomenmuseum.nl/evenement/toegangsticket-30-mei-14-00-16-00-uur/
LOCATION:Bomenmuseum\, Velperengh 13\, Doorn\, Utrecht\, 3941BZ\, Nederland
END:VEVENT
BEGIN:VEVENT
DTSTART;TZID=Europe/Amsterdam:20210530T160000
DTEND;TZID=Europe/Amsterdam:20210530T190000
DTSTAMP:20260424T054340
CREATED:20210525T140046Z
LAST-MODIFIED:20210525T140046Z
UID:10001299-1622390400-1622401200@ticket.bomenmuseum.nl
SUMMARY:Toegangsticket 30 mei | 16.00-19.00 uur
DESCRIPTION:
URL:https://ticket.bomenmuseum.nl/evenement/toegangsticket-30-mei-16-00-19-00-uur/
LOCATION:Bomenmuseum\, Velperengh 13\, Doorn\, Utrecht\, 3941BZ\, Nederland
END:VEVENT
END:VCALENDAR