BEGIN:VCALENDAR
VERSION:2.0
PRODID:-//Bomenmuseum - ECPv6.15.20//NONSGML v1.0//EN
CALSCALE:GREGORIAN
METHOD:PUBLISH
X-ORIGINAL-URL:https://ticket.bomenmuseum.nl
X-WR-CALDESC:Evenementen voor Bomenmuseum
REFRESH-INTERVAL;VALUE=DURATION:PT1H
X-Robots-Tag:noindex
X-PUBLISHED-TTL:PT1H
BEGIN:VTIMEZONE
TZID:Europe/Amsterdam
BEGIN:DAYLIGHT
TZOFFSETFROM:+0100
TZOFFSETTO:+0200
TZNAME:CEST
DTSTART:20200329T010000
END:DAYLIGHT
BEGIN:STANDARD
TZOFFSETFROM:+0200
TZOFFSETTO:+0100
TZNAME:CET
DTSTART:20201025T010000
END:STANDARD
BEGIN:DAYLIGHT
TZOFFSETFROM:+0100
TZOFFSETTO:+0200
TZNAME:CEST
DTSTART:20210328T010000
END:DAYLIGHT
BEGIN:STANDARD
TZOFFSETFROM:+0200
TZOFFSETTO:+0100
TZNAME:CET
DTSTART:20211031T010000
END:STANDARD
BEGIN:DAYLIGHT
TZOFFSETFROM:+0100
TZOFFSETTO:+0200
TZNAME:CEST
DTSTART:20220327T010000
END:DAYLIGHT
BEGIN:STANDARD
TZOFFSETFROM:+0200
TZOFFSETTO:+0100
TZNAME:CET
DTSTART:20221030T010000
END:STANDARD
END:VTIMEZONE
BEGIN:VEVENT
DTSTART;TZID=Europe/Amsterdam:20210531T080000
DTEND;TZID=Europe/Amsterdam:20210531T100000
DTSTAMP:20260423T145908
CREATED:20210525T183424Z
LAST-MODIFIED:20210525T183424Z
UID:10001300-1622448000-1622455200@ticket.bomenmuseum.nl
SUMMARY:Toegangsticket 31 mei | 8.00-10.00 uur
DESCRIPTION:
URL:https://ticket.bomenmuseum.nl/evenement/toegangsticket-31-mei-8-00-10-00-uur/
LOCATION:Bomenmuseum\, Velperengh 13\, Doorn\, Utrecht\, 3941BZ\, Nederland
END:VEVENT
BEGIN:VEVENT
DTSTART;TZID=Europe/Amsterdam:20210531T100000
DTEND;TZID=Europe/Amsterdam:20210531T120000
DTSTAMP:20260423T145908
CREATED:20210525T183541Z
LAST-MODIFIED:20210525T183541Z
UID:10001301-1622455200-1622462400@ticket.bomenmuseum.nl
SUMMARY:Toegangsticket 31 mei | 10.00-12.00 uur
DESCRIPTION:
URL:https://ticket.bomenmuseum.nl/evenement/toegangsticket-31-mei-10-00-12-00-uur/
LOCATION:Bomenmuseum\, Velperengh 13\, Doorn\, Utrecht\, 3941BZ\, Nederland
END:VEVENT
BEGIN:VEVENT
DTSTART;TZID=Europe/Amsterdam:20210531T120000
DTEND;TZID=Europe/Amsterdam:20210531T140000
DTSTAMP:20260423T145908
CREATED:20210525T183654Z
LAST-MODIFIED:20210525T183654Z
UID:10001302-1622462400-1622469600@ticket.bomenmuseum.nl
SUMMARY:Toegangsticket 31 mei | 12.00-14.00 uur
DESCRIPTION:
URL:https://ticket.bomenmuseum.nl/evenement/toegangsticket-31-mei-12-00-14-00-uur/
LOCATION:Bomenmuseum\, Velperengh 13\, Doorn\, Utrecht\, 3941BZ\, Nederland
END:VEVENT
BEGIN:VEVENT
DTSTART;TZID=Europe/Amsterdam:20210531T140000
DTEND;TZID=Europe/Amsterdam:20210531T160000
DTSTAMP:20260423T145908
CREATED:20210525T183813Z
LAST-MODIFIED:20210525T183813Z
UID:10001303-1622469600-1622476800@ticket.bomenmuseum.nl
SUMMARY:Toegangsticket 31 mei | 14.00-16.00 uur
DESCRIPTION:
URL:https://ticket.bomenmuseum.nl/evenement/toegangsticket-31-mei-14-00-16-00-uur/
LOCATION:Bomenmuseum\, Velperengh 13\, Doorn\, Utrecht\, 3941BZ\, Nederland
END:VEVENT
BEGIN:VEVENT
DTSTART;TZID=Europe/Amsterdam:20210531T160000
DTEND;TZID=Europe/Amsterdam:20210531T190000
DTSTAMP:20260423T145908
CREATED:20210525T183931Z
LAST-MODIFIED:20210525T183931Z
UID:10001304-1622476800-1622487600@ticket.bomenmuseum.nl
SUMMARY:Toegangsticket 31 mei | 16.00-19.00 uur
DESCRIPTION:
URL:https://ticket.bomenmuseum.nl/evenement/toegangsticket-31-mei-16-00-19-00-uur/
LOCATION:Bomenmuseum\, Velperengh 13\, Doorn\, Utrecht\, 3941BZ\, Nederland
END:VEVENT
END:VCALENDAR