BEGIN:VCALENDAR
VERSION:2.0
PRODID:-//Bomenmuseum - ECPv6.15.20//NONSGML v1.0//EN
CALSCALE:GREGORIAN
METHOD:PUBLISH
X-WR-CALNAME:Bomenmuseum
X-ORIGINAL-URL:https://ticket.bomenmuseum.nl
X-WR-CALDESC:Evenementen voor Bomenmuseum
REFRESH-INTERVAL;VALUE=DURATION:PT1H
X-Robots-Tag:noindex
X-PUBLISHED-TTL:PT1H
BEGIN:VTIMEZONE
TZID:Europe/Amsterdam
BEGIN:DAYLIGHT
TZOFFSETFROM:+0100
TZOFFSETTO:+0200
TZNAME:CEST
DTSTART:20200329T010000
END:DAYLIGHT
BEGIN:STANDARD
TZOFFSETFROM:+0200
TZOFFSETTO:+0100
TZNAME:CET
DTSTART:20201025T010000
END:STANDARD
BEGIN:DAYLIGHT
TZOFFSETFROM:+0100
TZOFFSETTO:+0200
TZNAME:CEST
DTSTART:20210328T010000
END:DAYLIGHT
BEGIN:STANDARD
TZOFFSETFROM:+0200
TZOFFSETTO:+0100
TZNAME:CET
DTSTART:20211031T010000
END:STANDARD
BEGIN:DAYLIGHT
TZOFFSETFROM:+0100
TZOFFSETTO:+0200
TZNAME:CEST
DTSTART:20220327T010000
END:DAYLIGHT
BEGIN:STANDARD
TZOFFSETFROM:+0200
TZOFFSETTO:+0100
TZNAME:CET
DTSTART:20221030T010000
END:STANDARD
END:VTIMEZONE
BEGIN:VEVENT
DTSTART;TZID=Europe/Amsterdam:20210602T080000
DTEND;TZID=Europe/Amsterdam:20210602T100000
DTSTAMP:20260420T233050
CREATED:20210525T185510Z
LAST-MODIFIED:20210525T185721Z
UID:10001004-1622620800-1622628000@ticket.bomenmuseum.nl
SUMMARY:Toegangsticket 2 juni | 8.00-10.00 uur
DESCRIPTION:
URL:https://ticket.bomenmuseum.nl/evenement/toegangsticket-2-juni-8-00-10-00-uur/
LOCATION:Bomenmuseum\, Velperengh 13\, Doorn\, Utrecht\, 3941BZ\, Nederland
END:VEVENT
BEGIN:VEVENT
DTSTART;TZID=Europe/Amsterdam:20210602T100000
DTEND;TZID=Europe/Amsterdam:20210602T120000
DTSTAMP:20260420T233050
CREATED:20210525T185638Z
LAST-MODIFIED:20210525T185638Z
UID:10001005-1622628000-1622635200@ticket.bomenmuseum.nl
SUMMARY:Toegangsticket 2 juni | 10.00-12.00 uur
DESCRIPTION:
URL:https://ticket.bomenmuseum.nl/evenement/toegangsticket-2-juni-10-00-12-00-uur/
LOCATION:Bomenmuseum\, Velperengh 13\, Doorn\, Utrecht\, 3941BZ\, Nederland
END:VEVENT
BEGIN:VEVENT
DTSTART;TZID=Europe/Amsterdam:20210602T120000
DTEND;TZID=Europe/Amsterdam:20210602T140000
DTSTAMP:20260420T233050
CREATED:20210525T185901Z
LAST-MODIFIED:20210525T185901Z
UID:10001006-1622635200-1622642400@ticket.bomenmuseum.nl
SUMMARY:Toegangsticket 2 juni | 12.00-14.00 uur
DESCRIPTION:
URL:https://ticket.bomenmuseum.nl/evenement/toegangsticket-2-juni-12-00-14-00-uur/
LOCATION:Bomenmuseum\, Velperengh 13\, Doorn\, Utrecht\, 3941BZ\, Nederland
END:VEVENT
BEGIN:VEVENT
DTSTART;TZID=Europe/Amsterdam:20210602T140000
DTEND;TZID=Europe/Amsterdam:20210602T160000
DTSTAMP:20260420T233050
CREATED:20210525T190034Z
LAST-MODIFIED:20210525T190034Z
UID:10001007-1622642400-1622649600@ticket.bomenmuseum.nl
SUMMARY:Toegangsticket 2 juni | 14.00-16.00 uur
DESCRIPTION:
URL:https://ticket.bomenmuseum.nl/evenement/toegangsticket-2-juni-14-00-16-00-uur/
LOCATION:Bomenmuseum\, Velperengh 13\, Doorn\, Utrecht\, 3941BZ\, Nederland
END:VEVENT
BEGIN:VEVENT
DTSTART;TZID=Europe/Amsterdam:20210602T160000
DTEND;TZID=Europe/Amsterdam:20210602T190000
DTSTAMP:20260420T233050
CREATED:20210525T190153Z
LAST-MODIFIED:20210525T190203Z
UID:10001009-1622649600-1622660400@ticket.bomenmuseum.nl
SUMMARY:Toegangsticket 2 juni | 16.00-19.00 uur
DESCRIPTION:
URL:https://ticket.bomenmuseum.nl/evenement/toegangsticket-16-00-19-00-uur/
LOCATION:Bomenmuseum\, Velperengh 13\, Doorn\, Utrecht\, 3941BZ\, Nederland
END:VEVENT
END:VCALENDAR