BEGIN:VCALENDAR
VERSION:2.0
PRODID:-//Bomenmuseum - ECPv6.15.20//NONSGML v1.0//EN
CALSCALE:GREGORIAN
METHOD:PUBLISH
X-ORIGINAL-URL:https://ticket.bomenmuseum.nl
X-WR-CALDESC:Evenementen voor Bomenmuseum
REFRESH-INTERVAL;VALUE=DURATION:PT1H
X-Robots-Tag:noindex
X-PUBLISHED-TTL:PT1H
BEGIN:VTIMEZONE
TZID:Europe/Amsterdam
BEGIN:DAYLIGHT
TZOFFSETFROM:+0100
TZOFFSETTO:+0200
TZNAME:CEST
DTSTART:20200329T010000
END:DAYLIGHT
BEGIN:STANDARD
TZOFFSETFROM:+0200
TZOFFSETTO:+0100
TZNAME:CET
DTSTART:20201025T010000
END:STANDARD
BEGIN:DAYLIGHT
TZOFFSETFROM:+0100
TZOFFSETTO:+0200
TZNAME:CEST
DTSTART:20210328T010000
END:DAYLIGHT
BEGIN:STANDARD
TZOFFSETFROM:+0200
TZOFFSETTO:+0100
TZNAME:CET
DTSTART:20211031T010000
END:STANDARD
BEGIN:DAYLIGHT
TZOFFSETFROM:+0100
TZOFFSETTO:+0200
TZNAME:CEST
DTSTART:20220327T010000
END:DAYLIGHT
BEGIN:STANDARD
TZOFFSETFROM:+0200
TZOFFSETTO:+0100
TZNAME:CET
DTSTART:20221030T010000
END:STANDARD
END:VTIMEZONE
BEGIN:VEVENT
DTSTART;TZID=Europe/Amsterdam:20210603T080000
DTEND;TZID=Europe/Amsterdam:20210603T100000
DTSTAMP:20260420T192050
CREATED:20210525T192337Z
LAST-MODIFIED:20210525T192337Z
UID:10001011-1622707200-1622714400@ticket.bomenmuseum.nl
SUMMARY:Toegangsticket 3 juni | 8.00-10.00 uur
DESCRIPTION:
URL:https://ticket.bomenmuseum.nl/evenement/toegangsticket-3-juni-8-00-10-00-uur/
LOCATION:Bomenmuseum\, Velperengh 13\, Doorn\, Utrecht\, 3941BZ\, Nederland
END:VEVENT
BEGIN:VEVENT
DTSTART;TZID=Europe/Amsterdam:20210603T100000
DTEND;TZID=Europe/Amsterdam:20210603T120000
DTSTAMP:20260420T192050
CREATED:20210525T192512Z
LAST-MODIFIED:20210525T192512Z
UID:10001306-1622714400-1622721600@ticket.bomenmuseum.nl
SUMMARY:Toegangsticket 3 juni | 10.00-12.00 uur
DESCRIPTION:
URL:https://ticket.bomenmuseum.nl/evenement/toegangsticket-3-juni-10-00-12-00-uur/
LOCATION:Bomenmuseum\, Velperengh 13\, Doorn\, Utrecht\, 3941BZ\, Nederland
END:VEVENT
BEGIN:VEVENT
DTSTART;TZID=Europe/Amsterdam:20210603T120000
DTEND;TZID=Europe/Amsterdam:20210603T140000
DTSTAMP:20260420T192050
CREATED:20210525T192642Z
LAST-MODIFIED:20210525T192642Z
UID:10001307-1622721600-1622728800@ticket.bomenmuseum.nl
SUMMARY:Toegangsticket 3 juni | 12.00-14.00 uur
DESCRIPTION:
URL:https://ticket.bomenmuseum.nl/evenement/toegangsticket-3-juni-12-00-14-00-uur/
LOCATION:Bomenmuseum\, Velperengh 13\, Doorn\, Utrecht\, 3941BZ\, Nederland
END:VEVENT
BEGIN:VEVENT
DTSTART;TZID=Europe/Amsterdam:20210603T140000
DTEND;TZID=Europe/Amsterdam:20210603T160000
DTSTAMP:20260420T192050
CREATED:20210525T192826Z
LAST-MODIFIED:20210525T192826Z
UID:10001308-1622728800-1622736000@ticket.bomenmuseum.nl
SUMMARY:Toegangsticket 3 juni | 14.00-16.00 uur
DESCRIPTION:
URL:https://ticket.bomenmuseum.nl/evenement/toegangsticket-3-juni-14-00-16-00-uur/
LOCATION:Bomenmuseum\, Velperengh 13\, Doorn\, Utrecht\, 3941BZ\, Nederland
END:VEVENT
BEGIN:VEVENT
DTSTART;TZID=Europe/Amsterdam:20210603T160000
DTEND;TZID=Europe/Amsterdam:20210603T190000
DTSTAMP:20260420T192050
CREATED:20210525T192953Z
LAST-MODIFIED:20210526T141856Z
UID:10001309-1622736000-1622746800@ticket.bomenmuseum.nl
SUMMARY:Toegangsticket 3 juni | 16.00-19.00 uur
DESCRIPTION:
URL:https://ticket.bomenmuseum.nl/evenement/toegangsticket-3-juni-16-00-19-00-uur/
LOCATION:Bomenmuseum\, Velperengh 13\, Doorn\, Utrecht\, 3941BZ\, Nederland
END:VEVENT
END:VCALENDAR