BEGIN:VCALENDAR
VERSION:2.0
PRODID:-//Bomenmuseum - ECPv6.15.20//NONSGML v1.0//EN
CALSCALE:GREGORIAN
METHOD:PUBLISH
X-WR-CALNAME:Bomenmuseum
X-ORIGINAL-URL:https://ticket.bomenmuseum.nl
X-WR-CALDESC:Evenementen voor Bomenmuseum
REFRESH-INTERVAL;VALUE=DURATION:PT1H
X-Robots-Tag:noindex
X-PUBLISHED-TTL:PT1H
BEGIN:VTIMEZONE
TZID:Europe/Amsterdam
BEGIN:DAYLIGHT
TZOFFSETFROM:+0100
TZOFFSETTO:+0200
TZNAME:CEST
DTSTART:20200329T010000
END:DAYLIGHT
BEGIN:STANDARD
TZOFFSETFROM:+0200
TZOFFSETTO:+0100
TZNAME:CET
DTSTART:20201025T010000
END:STANDARD
BEGIN:DAYLIGHT
TZOFFSETFROM:+0100
TZOFFSETTO:+0200
TZNAME:CEST
DTSTART:20210328T010000
END:DAYLIGHT
BEGIN:STANDARD
TZOFFSETFROM:+0200
TZOFFSETTO:+0100
TZNAME:CET
DTSTART:20211031T010000
END:STANDARD
BEGIN:DAYLIGHT
TZOFFSETFROM:+0100
TZOFFSETTO:+0200
TZNAME:CEST
DTSTART:20220327T010000
END:DAYLIGHT
BEGIN:STANDARD
TZOFFSETFROM:+0200
TZOFFSETTO:+0100
TZNAME:CET
DTSTART:20221030T010000
END:STANDARD
END:VTIMEZONE
BEGIN:VEVENT
DTSTART;TZID=Europe/Amsterdam:20210608T080000
DTEND;TZID=Europe/Amsterdam:20210608T100000
DTSTAMP:20260419T180120
CREATED:20210603T162939Z
LAST-MODIFIED:20210603T162939Z
UID:10001037-1623139200-1623146400@ticket.bomenmuseum.nl
SUMMARY:Toegangsticket 8 juni | 8.00-10.00 uur
DESCRIPTION:
URL:https://ticket.bomenmuseum.nl/evenement/toegangsticket-8-juni-8-00-10-00-uur/
LOCATION:Bomenmuseum\, Velperengh 13\, Doorn\, Utrecht\, 3941BZ\, Nederland
END:VEVENT
BEGIN:VEVENT
DTSTART;TZID=Europe/Amsterdam:20210608T100000
DTEND;TZID=Europe/Amsterdam:20210608T120000
DTSTAMP:20260419T180120
CREATED:20210603T163101Z
LAST-MODIFIED:20210603T163101Z
UID:10001039-1623146400-1623153600@ticket.bomenmuseum.nl
SUMMARY:Toegangsticket 8 juni |  10.00-12.00 uur
DESCRIPTION:
URL:https://ticket.bomenmuseum.nl/evenement/toegangsticket-8-juni-10-00-12-00-uur/
LOCATION:Bomenmuseum\, Velperengh 13\, Doorn\, Utrecht\, 3941BZ\, Nederland
END:VEVENT
BEGIN:VEVENT
DTSTART;TZID=Europe/Amsterdam:20210608T120000
DTEND;TZID=Europe/Amsterdam:20210608T140000
DTSTAMP:20260419T180120
CREATED:20210603T163221Z
LAST-MODIFIED:20210603T163221Z
UID:10001041-1623153600-1623160800@ticket.bomenmuseum.nl
SUMMARY:Toegangsticket 8 juni | 12.00-14.00 uur
DESCRIPTION:
URL:https://ticket.bomenmuseum.nl/evenement/toegangsticket-8-juni-12-00-14-00-uur/
LOCATION:Bomenmuseum\, Velperengh 13\, Doorn\, Utrecht\, 3941BZ\, Nederland
END:VEVENT
BEGIN:VEVENT
DTSTART;TZID=Europe/Amsterdam:20210608T140000
DTEND;TZID=Europe/Amsterdam:20210608T160000
DTSTAMP:20260419T180120
CREATED:20210603T163440Z
LAST-MODIFIED:20210603T163440Z
UID:10001043-1623160800-1623168000@ticket.bomenmuseum.nl
SUMMARY:Toegangsticket 8 juni | 14.00-16.00 uur
DESCRIPTION:
URL:https://ticket.bomenmuseum.nl/evenement/toegangsticket-8-juni-14-00-16-00-uur/
LOCATION:Bomenmuseum\, Velperengh 13\, Doorn\, Utrecht\, 3941BZ\, Nederland
END:VEVENT
BEGIN:VEVENT
DTSTART;TZID=Europe/Amsterdam:20210608T160000
DTEND;TZID=Europe/Amsterdam:20210608T190000
DTSTAMP:20260419T180120
CREATED:20210603T163632Z
LAST-MODIFIED:20210603T163632Z
UID:10001330-1623168000-1623178800@ticket.bomenmuseum.nl
SUMMARY:Toegangsticket 8 juni | 16.00-19.00 uur
DESCRIPTION:
URL:https://ticket.bomenmuseum.nl/evenement/toegangsticket-8-juni-16-00-19-00-uur/
LOCATION:Bomenmuseum\, Velperengh 13\, Doorn\, Utrecht\, 3941BZ\, Nederland
END:VEVENT
END:VCALENDAR