BEGIN:VCALENDAR
VERSION:2.0
PRODID:-//Bomenmuseum - ECPv6.15.20//NONSGML v1.0//EN
CALSCALE:GREGORIAN
METHOD:PUBLISH
X-ORIGINAL-URL:https://ticket.bomenmuseum.nl
X-WR-CALDESC:Evenementen voor Bomenmuseum
REFRESH-INTERVAL;VALUE=DURATION:PT1H
X-Robots-Tag:noindex
X-PUBLISHED-TTL:PT1H
BEGIN:VTIMEZONE
TZID:Europe/Amsterdam
BEGIN:DAYLIGHT
TZOFFSETFROM:+0100
TZOFFSETTO:+0200
TZNAME:CEST
DTSTART:20240331T010000
END:DAYLIGHT
BEGIN:STANDARD
TZOFFSETFROM:+0200
TZOFFSETTO:+0100
TZNAME:CET
DTSTART:20241027T010000
END:STANDARD
BEGIN:DAYLIGHT
TZOFFSETFROM:+0100
TZOFFSETTO:+0200
TZNAME:CEST
DTSTART:20250330T010000
END:DAYLIGHT
BEGIN:STANDARD
TZOFFSETFROM:+0200
TZOFFSETTO:+0100
TZNAME:CET
DTSTART:20251026T010000
END:STANDARD
BEGIN:DAYLIGHT
TZOFFSETFROM:+0100
TZOFFSETTO:+0200
TZNAME:CEST
DTSTART:20260329T010000
END:DAYLIGHT
BEGIN:STANDARD
TZOFFSETFROM:+0200
TZOFFSETTO:+0100
TZNAME:CET
DTSTART:20261025T010000
END:STANDARD
END:VTIMEZONE
BEGIN:VEVENT
DTSTART;TZID=Europe/Amsterdam:20250620T200000
DTEND;TZID=Europe/Amsterdam:20250620T220000
DTSTAMP:20260419T164110
CREATED:20250523T100639Z
LAST-MODIFIED:20250620T132035Z
UID:10001624-1750449600-1750456800@ticket.bomenmuseum.nl
SUMMARY:Midzomernachtconcert 'Ekaterina Levental' | vrijdag 20 juni\, 20.30 uur
DESCRIPTION:Inloop vanaf 20.00 uur voor een kopje koffie of thee met wat lekkers. Start concert om 20.30 uur. Na afloop serveren we een drankje met een hapje. Consumpties zijn bij de ticketprijs inbegrepen.
URL:https://ticket.bomenmuseum.nl/evenement/midzomernachtconcert-ekaterina-leventhal-vrijdag-20-juni-20-30-uur/
LOCATION:Utrecht
END:VEVENT
END:VCALENDAR