BEGIN:VCALENDAR
VERSION:2.0
PRODID:-//Bomenmuseum - ECPv6.15.20//NONSGML v1.0//EN
CALSCALE:GREGORIAN
METHOD:PUBLISH
X-WR-CALNAME:Bomenmuseum
X-ORIGINAL-URL:https://ticket.bomenmuseum.nl
X-WR-CALDESC:Evenementen voor Bomenmuseum
REFRESH-INTERVAL;VALUE=DURATION:PT1H
X-Robots-Tag:noindex
X-PUBLISHED-TTL:PT1H
BEGIN:VTIMEZONE
TZID:Europe/Amsterdam
BEGIN:DAYLIGHT
TZOFFSETFROM:+0100
TZOFFSETTO:+0200
TZNAME:CEST
DTSTART:20240331T010000
END:DAYLIGHT
BEGIN:STANDARD
TZOFFSETFROM:+0200
TZOFFSETTO:+0100
TZNAME:CET
DTSTART:20241027T010000
END:STANDARD
BEGIN:DAYLIGHT
TZOFFSETFROM:+0100
TZOFFSETTO:+0200
TZNAME:CEST
DTSTART:20250330T010000
END:DAYLIGHT
BEGIN:STANDARD
TZOFFSETFROM:+0200
TZOFFSETTO:+0100
TZNAME:CET
DTSTART:20251026T010000
END:STANDARD
BEGIN:DAYLIGHT
TZOFFSETFROM:+0100
TZOFFSETTO:+0200
TZNAME:CEST
DTSTART:20260329T010000
END:DAYLIGHT
BEGIN:STANDARD
TZOFFSETFROM:+0200
TZOFFSETTO:+0100
TZNAME:CET
DTSTART:20261025T010000
END:STANDARD
END:VTIMEZONE
BEGIN:VEVENT
DTSTART;TZID=Europe/Amsterdam:20250907T110000
DTEND;TZID=Europe/Amsterdam:20250907T123000
DTSTAMP:20260419T180140
CREATED:20250603T055855Z
LAST-MODIFIED:20250907T075421Z
UID:10001630-1757242800-1757248200@ticket.bomenmuseum.nl
SUMMARY:Kinderconcert GAAAP | zondagochtend 7 september\, 11.30 uur
DESCRIPTION:Inloop vanaf 11.00 uur voor koffie\, thee of limonade en wat lekkers (inbegrepen bij de ticketprijs). Na afloop krijgen de kinderen op vertoon van hun ticket een waterijsje in de museumwinkel. Start concert om 11.30 uur.
URL:https://ticket.bomenmuseum.nl/evenement/kinderconcert-gaaap-zondagochtend-7-september-11-30-uur/
LOCATION:Bomenmuseum\, Velperengh 13\, Doorn\, Utrecht\, 3941BZ\, Nederland
END:VEVENT
BEGIN:VEVENT
DTSTART;TZID=Europe/Amsterdam:20250907T133000
DTEND;TZID=Europe/Amsterdam:20250907T153000
DTSTAMP:20260419T180140
CREATED:20250603T060301Z
LAST-MODIFIED:20250815T201749Z
UID:10001631-1757251800-1757259000@ticket.bomenmuseum.nl
SUMMARY:Themawandeling 'Communicatie in het plantenrijk' | zondag 7 september\, 14.00 uur
DESCRIPTION:Inloop vanaf 13.30 uur\, start wandeling om 14.00 uur.
URL:https://ticket.bomenmuseum.nl/evenement/themawandeling-communicatie-in-het-plantenrijk-zondag-7-september-14-00-uur/
LOCATION:Bomenmuseum\, Velperengh 13\, Doorn\, Utrecht\, 3941BZ\, Nederland
END:VEVENT
END:VCALENDAR