BEGIN:VCALENDAR
VERSION:2.0
PRODID:-//Bomenmuseum - ECPv6.15.20//NONSGML v1.0//EN
CALSCALE:GREGORIAN
METHOD:PUBLISH
X-WR-CALNAME:Bomenmuseum
X-ORIGINAL-URL:https://ticket.bomenmuseum.nl
X-WR-CALDESC:Evenementen voor Bomenmuseum
REFRESH-INTERVAL;VALUE=DURATION:PT1H
X-Robots-Tag:noindex
X-PUBLISHED-TTL:PT1H
BEGIN:VTIMEZONE
TZID:Europe/Amsterdam
BEGIN:DAYLIGHT
TZOFFSETFROM:+0100
TZOFFSETTO:+0200
TZNAME:CEST
DTSTART:20240331T010000
END:DAYLIGHT
BEGIN:STANDARD
TZOFFSETFROM:+0200
TZOFFSETTO:+0100
TZNAME:CET
DTSTART:20241027T010000
END:STANDARD
BEGIN:DAYLIGHT
TZOFFSETFROM:+0100
TZOFFSETTO:+0200
TZNAME:CEST
DTSTART:20250330T010000
END:DAYLIGHT
BEGIN:STANDARD
TZOFFSETFROM:+0200
TZOFFSETTO:+0100
TZNAME:CET
DTSTART:20251026T010000
END:STANDARD
BEGIN:DAYLIGHT
TZOFFSETFROM:+0100
TZOFFSETTO:+0200
TZNAME:CEST
DTSTART:20260329T010000
END:DAYLIGHT
BEGIN:STANDARD
TZOFFSETFROM:+0200
TZOFFSETTO:+0100
TZNAME:CET
DTSTART:20261025T010000
END:STANDARD
END:VTIMEZONE
BEGIN:VEVENT
DTSTART;TZID=Europe/Amsterdam:20251109T133000
DTEND;TZID=Europe/Amsterdam:20251109T163000
DTSTAMP:20260420T134259
CREATED:20250723T110728Z
LAST-MODIFIED:20250724T071106Z
UID:10001642-1762695000-1762705800@ticket.bomenmuseum.nl
SUMMARY:Thema wandeling over "Sferen en Energie" | zondag 9 november\, 14.00 uur
DESCRIPTION:Inloop vanaf 13.30 uur\, start wandeling 14.00 uur
URL:https://ticket.bomenmuseum.nl/evenement/thema-wandeling-over-sferen-en-energie-zondag-9-november-14-00-uur/
LOCATION:Utrecht
END:VEVENT
END:VCALENDAR