BEGIN:VCALENDAR
VERSION:2.0
PRODID:-//Bomenmuseum - ECPv6.15.20//NONSGML v1.0//EN
CALSCALE:GREGORIAN
METHOD:PUBLISH
X-ORIGINAL-URL:https://ticket.bomenmuseum.nl
X-WR-CALDESC:Evenementen voor Bomenmuseum
REFRESH-INTERVAL;VALUE=DURATION:PT1H
X-Robots-Tag:noindex
X-PUBLISHED-TTL:PT1H
BEGIN:VTIMEZONE
TZID:Europe/Amsterdam
BEGIN:DAYLIGHT
TZOFFSETFROM:+0100
TZOFFSETTO:+0200
TZNAME:CEST
DTSTART:20190331T010000
END:DAYLIGHT
BEGIN:STANDARD
TZOFFSETFROM:+0200
TZOFFSETTO:+0100
TZNAME:CET
DTSTART:20191027T010000
END:STANDARD
BEGIN:DAYLIGHT
TZOFFSETFROM:+0100
TZOFFSETTO:+0200
TZNAME:CEST
DTSTART:20200329T010000
END:DAYLIGHT
BEGIN:STANDARD
TZOFFSETFROM:+0200
TZOFFSETTO:+0100
TZNAME:CET
DTSTART:20201025T010000
END:STANDARD
BEGIN:DAYLIGHT
TZOFFSETFROM:+0100
TZOFFSETTO:+0200
TZNAME:CEST
DTSTART:20210328T010000
END:DAYLIGHT
BEGIN:STANDARD
TZOFFSETFROM:+0200
TZOFFSETTO:+0100
TZNAME:CET
DTSTART:20211031T010000
END:STANDARD
END:VTIMEZONE
BEGIN:VEVENT
DTSTART;TZID=Europe/Amsterdam:20201201T100000
DTEND;TZID=Europe/Amsterdam:20201201T160000
DTSTAMP:20260425T003514
CREATED:20201126T080749Z
LAST-MODIFIED:20201126T080749Z
UID:10000951-1606816800-1606838400@ticket.bomenmuseum.nl
SUMMARY:Toegangsticket 1 december
DESCRIPTION:
URL:https://ticket.bomenmuseum.nl/evenement/toegangsticket-1-december/
LOCATION:Bomenmuseum\, Velperengh 13\, Doorn\, Utrecht\, 3941BZ\, Nederland
CATEGORIES:Toegangsticket
END:VEVENT
BEGIN:VEVENT
DTSTART;TZID=Europe/Amsterdam:20201202T100000
DTEND;TZID=Europe/Amsterdam:20201202T160000
DTSTAMP:20260425T003514
CREATED:20201126T080853Z
LAST-MODIFIED:20201126T080853Z
UID:10000952-1606903200-1606924800@ticket.bomenmuseum.nl
SUMMARY:Toegangsticket 2 december
DESCRIPTION:
URL:https://ticket.bomenmuseum.nl/evenement/toegangsticket-2-december/
LOCATION:Bomenmuseum\, Velperengh 13\, Doorn\, Utrecht\, 3941BZ\, Nederland
CATEGORIES:Toegangsticket
END:VEVENT
BEGIN:VEVENT
DTSTART;TZID=Europe/Amsterdam:20201203T100000
DTEND;TZID=Europe/Amsterdam:20201203T160000
DTSTAMP:20260425T003514
CREATED:20201126T080957Z
LAST-MODIFIED:20201126T080957Z
UID:10000954-1606989600-1607011200@ticket.bomenmuseum.nl
SUMMARY:Toegangsticket 3 december
DESCRIPTION:
URL:https://ticket.bomenmuseum.nl/evenement/toegangsticket-3-december/
LOCATION:Bomenmuseum\, Velperengh 13\, Doorn\, Utrecht\, 3941BZ\, Nederland
CATEGORIES:Toegangsticket
END:VEVENT
BEGIN:VEVENT
DTSTART;TZID=Europe/Amsterdam:20201204T100000
DTEND;TZID=Europe/Amsterdam:20201204T160000
DTSTAMP:20260425T003514
CREATED:20201126T081100Z
LAST-MODIFIED:20201126T081100Z
UID:10000957-1607076000-1607097600@ticket.bomenmuseum.nl
SUMMARY:Toegangsticket 4 december
DESCRIPTION:
URL:https://ticket.bomenmuseum.nl/evenement/toegangsticket-4-december/
LOCATION:Bomenmuseum\, Velperengh 13\, Doorn\, Utrecht\, 3941BZ\, Nederland
CATEGORIES:Toegangsticket
END:VEVENT
BEGIN:VEVENT
DTSTART;TZID=Europe/Amsterdam:20201205T100000
DTEND;TZID=Europe/Amsterdam:20201205T160000
DTSTAMP:20260425T003514
CREATED:20201126T081200Z
LAST-MODIFIED:20201126T081200Z
UID:10000959-1607162400-1607184000@ticket.bomenmuseum.nl
SUMMARY:Toegangsticket 5 december
DESCRIPTION:
URL:https://ticket.bomenmuseum.nl/evenement/toegangsticket-5-december/
LOCATION:Bomenmuseum\, Velperengh 13\, Doorn\, Utrecht\, 3941BZ\, Nederland
CATEGORIES:Toegangsticket
END:VEVENT
BEGIN:VEVENT
DTSTART;TZID=Europe/Amsterdam:20201206T100000
DTEND;TZID=Europe/Amsterdam:20201206T160000
DTSTAMP:20260425T003514
CREATED:20201126T081303Z
LAST-MODIFIED:20201126T081303Z
UID:10000961-1607248800-1607270400@ticket.bomenmuseum.nl
SUMMARY:Toegangsticket 6 december
DESCRIPTION:
URL:https://ticket.bomenmuseum.nl/evenement/toegangsticket-6-december/
LOCATION:Bomenmuseum\, Velperengh 13\, Doorn\, Utrecht\, 3941BZ\, Nederland
CATEGORIES:Toegangsticket
END:VEVENT
BEGIN:VEVENT
DTSTART;TZID=Europe/Amsterdam:20201207T100000
DTEND;TZID=Europe/Amsterdam:20201207T160000
DTSTAMP:20260425T003514
CREATED:20201203T062810Z
LAST-MODIFIED:20201203T062818Z
UID:10000963-1607335200-1607356800@ticket.bomenmuseum.nl
SUMMARY:Toegangsticket 7 december
DESCRIPTION:
URL:https://ticket.bomenmuseum.nl/evenement/toegangsticekt-7-december/
LOCATION:Bomenmuseum\, Velperengh 13\, Doorn\, Utrecht\, 3941BZ\, Nederland
CATEGORIES:Toegangsticket
END:VEVENT
BEGIN:VEVENT
DTSTART;TZID=Europe/Amsterdam:20201208T100000
DTEND;TZID=Europe/Amsterdam:20201208T160000
DTSTAMP:20260425T003514
CREATED:20201203T062917Z
LAST-MODIFIED:20201203T062917Z
UID:10000965-1607421600-1607443200@ticket.bomenmuseum.nl
SUMMARY:Toegangsticket 8 december
DESCRIPTION:
URL:https://ticket.bomenmuseum.nl/evenement/toegangsticket-8-december/
LOCATION:Bomenmuseum\, Velperengh 13\, Doorn\, Utrecht\, 3941BZ\, Nederland
CATEGORIES:Toegangsticket
END:VEVENT
BEGIN:VEVENT
DTSTART;TZID=Europe/Amsterdam:20201209T100000
DTEND;TZID=Europe/Amsterdam:20201209T160000
DTSTAMP:20260425T003514
CREATED:20201203T063215Z
LAST-MODIFIED:20201203T063215Z
UID:10001216-1607508000-1607529600@ticket.bomenmuseum.nl
SUMMARY:Toegangsticket 9 december
DESCRIPTION:
URL:https://ticket.bomenmuseum.nl/evenement/toegangsticket-9-december/
LOCATION:Bomenmuseum\, Velperengh 13\, Doorn\, Utrecht\, 3941BZ\, Nederland
CATEGORIES:Toegangsticket
END:VEVENT
BEGIN:VEVENT
DTSTART;TZID=Europe/Amsterdam:20201210T100000
DTEND;TZID=Europe/Amsterdam:20201210T160000
DTSTAMP:20260425T003514
CREATED:20201203T063320Z
LAST-MODIFIED:20201203T063320Z
UID:10001217-1607594400-1607616000@ticket.bomenmuseum.nl
SUMMARY:Toegangsticket 10 december
DESCRIPTION:
URL:https://ticket.bomenmuseum.nl/evenement/toegangsticket-10-december/
LOCATION:Bomenmuseum\, Velperengh 13\, Doorn\, Utrecht\, 3941BZ\, Nederland
CATEGORIES:Toegangsticket
END:VEVENT
BEGIN:VEVENT
DTSTART;TZID=Europe/Amsterdam:20201211T100000
DTEND;TZID=Europe/Amsterdam:20201211T160000
DTSTAMP:20260425T003514
CREATED:20201203T063549Z
LAST-MODIFIED:20201203T063549Z
UID:10001218-1607680800-1607702400@ticket.bomenmuseum.nl
SUMMARY:Toegangsticket 11 december
DESCRIPTION:
URL:https://ticket.bomenmuseum.nl/evenement/toegangsticket-11-december/
LOCATION:Bomenmuseum\, Velperengh 13\, Doorn\, Utrecht\, 3941BZ\, Nederland
CATEGORIES:Toegangsticket
END:VEVENT
BEGIN:VEVENT
DTSTART;TZID=Europe/Amsterdam:20201212T100000
DTEND;TZID=Europe/Amsterdam:20201212T160000
DTSTAMP:20260425T003514
CREATED:20201203T063657Z
LAST-MODIFIED:20201203T063657Z
UID:10001219-1607767200-1607788800@ticket.bomenmuseum.nl
SUMMARY:Toegangsticket 12 december
DESCRIPTION:
URL:https://ticket.bomenmuseum.nl/evenement/toegangsticket-12-december/
LOCATION:Bomenmuseum\, Velperengh 13\, Doorn\, Utrecht\, 3941BZ\, Nederland
CATEGORIES:Toegangsticket
END:VEVENT
BEGIN:VEVENT
DTSTART;TZID=Europe/Amsterdam:20201213T100000
DTEND;TZID=Europe/Amsterdam:20201213T160000
DTSTAMP:20260425T003514
CREATED:20201203T063938Z
LAST-MODIFIED:20201203T063938Z
UID:10001220-1607853600-1607875200@ticket.bomenmuseum.nl
SUMMARY:Toegangsticket 13 december
DESCRIPTION:
URL:https://ticket.bomenmuseum.nl/evenement/toegangsticket-13-december/
LOCATION:Bomenmuseum\, Velperengh 13\, Doorn\, Utrecht\, 3941BZ\, Nederland
CATEGORIES:Toegangsticket
END:VEVENT
BEGIN:VEVENT
DTSTART;TZID=Europe/Amsterdam:20201214T100000
DTEND;TZID=Europe/Amsterdam:20201214T160000
DTSTAMP:20260425T003514
CREATED:20201203T064107Z
LAST-MODIFIED:20201203T064107Z
UID:10001221-1607940000-1607961600@ticket.bomenmuseum.nl
SUMMARY:Toegangsticket 14 december
DESCRIPTION:
URL:https://ticket.bomenmuseum.nl/evenement/toegangsticket-14-december/
LOCATION:Bomenmuseum\, Velperengh 13\, Doorn\, Utrecht\, 3941BZ\, Nederland
CATEGORIES:Toegangsticket
END:VEVENT
END:VCALENDAR