BEGIN:VCALENDAR
VERSION:2.0
PRODID:-//Bomenmuseum - ECPv6.15.20//NONSGML v1.0//EN
CALSCALE:GREGORIAN
METHOD:PUBLISH
X-WR-CALNAME:Bomenmuseum
X-ORIGINAL-URL:https://ticket.bomenmuseum.nl
X-WR-CALDESC:Evenementen voor Bomenmuseum
REFRESH-INTERVAL;VALUE=DURATION:PT1H
X-Robots-Tag:noindex
X-PUBLISHED-TTL:PT1H
BEGIN:VTIMEZONE
TZID:Europe/Amsterdam
BEGIN:DAYLIGHT
TZOFFSETFROM:+0100
TZOFFSETTO:+0200
TZNAME:CEST
DTSTART:20240331T010000
END:DAYLIGHT
BEGIN:STANDARD
TZOFFSETFROM:+0200
TZOFFSETTO:+0100
TZNAME:CET
DTSTART:20241027T010000
END:STANDARD
BEGIN:DAYLIGHT
TZOFFSETFROM:+0100
TZOFFSETTO:+0200
TZNAME:CEST
DTSTART:20250330T010000
END:DAYLIGHT
BEGIN:STANDARD
TZOFFSETFROM:+0200
TZOFFSETTO:+0100
TZNAME:CET
DTSTART:20251026T010000
END:STANDARD
BEGIN:DAYLIGHT
TZOFFSETFROM:+0100
TZOFFSETTO:+0200
TZNAME:CEST
DTSTART:20260329T010000
END:DAYLIGHT
BEGIN:STANDARD
TZOFFSETFROM:+0200
TZOFFSETTO:+0100
TZNAME:CET
DTSTART:20261025T010000
END:STANDARD
END:VTIMEZONE
BEGIN:VEVENT
DTSTART;TZID=Europe/Amsterdam:20250601T133000
DTEND;TZID=Europe/Amsterdam:20250601T153000
DTSTAMP:20260419T163413
CREATED:20250227T074832Z
LAST-MODIFIED:20250227T074832Z
UID:10001619-1748784600-1748791800@ticket.bomenmuseum.nl
SUMMARY:Themawandeling 'Planthunters' | zondag 1 juni
DESCRIPTION:Inloop vanaf 13.30 uur\, start wandeling om 14.00 uur
URL:https://ticket.bomenmuseum.nl/evenement/themawandeling-planthunters-zondag-1-juni/
LOCATION:Bomenmuseum\, Velperengh 13\, Doorn\, Utrecht\, 3941BZ\, Nederland
END:VEVENT
BEGIN:VEVENT
DTSTART;TZID=Europe/Amsterdam:20250615T133000
DTEND;TZID=Europe/Amsterdam:20250615T153000
DTSTAMP:20260419T163413
CREATED:20250227T075309Z
LAST-MODIFIED:20250524T081816Z
UID:10001620-1749994200-1750001400@ticket.bomenmuseum.nl
SUMMARY:Themawandeling 'geneeskrachtige en eetbare planten' | zondag 15 juni
DESCRIPTION:Inloop vanaf 13.30 uur\, start wandeling om 14.00 uur.
URL:https://ticket.bomenmuseum.nl/evenement/themawandeling-geneeskrachtige-en-eetbare-planten-zondag-15-juni/
LOCATION:Bomenmuseum\, Velperengh 13\, Doorn\, Utrecht\, 3941BZ\, Nederland
END:VEVENT
BEGIN:VEVENT
DTSTART;TZID=Europe/Amsterdam:20250620T200000
DTEND;TZID=Europe/Amsterdam:20250620T220000
DTSTAMP:20260419T163413
CREATED:20250523T100639Z
LAST-MODIFIED:20250620T132035Z
UID:10001624-1750449600-1750456800@ticket.bomenmuseum.nl
SUMMARY:Midzomernachtconcert 'Ekaterina Levental' | vrijdag 20 juni\, 20.30 uur
DESCRIPTION:Inloop vanaf 20.00 uur voor een kopje koffie of thee met wat lekkers. Start concert om 20.30 uur. Na afloop serveren we een drankje met een hapje. Consumpties zijn bij de ticketprijs inbegrepen.
URL:https://ticket.bomenmuseum.nl/evenement/midzomernachtconcert-ekaterina-leventhal-vrijdag-20-juni-20-30-uur/
LOCATION:Utrecht
END:VEVENT
BEGIN:VEVENT
DTSTART;TZID=Europe/Amsterdam:20250622T153000
DTEND;TZID=Europe/Amsterdam:20250622T173000
DTSTAMP:20260419T163413
CREATED:20250523T101419Z
LAST-MODIFIED:20250622T083801Z
UID:10001625-1750606200-1750613400@ticket.bomenmuseum.nl
SUMMARY:Midzomerzondagmiddagconcert Nederlands Kamermuziek Ensemble | zondag 22 juni\, 16.00 uur
DESCRIPTION:We ontvangen u graag vanaf 15.30 uur voor een kopje koffie of thee met wat lekkers. Na afloop schenken we in de tent nog een afsluitend drankje met hapje. Consumpties zijn bij de ticketprijs inbegrepen.
URL:https://ticket.bomenmuseum.nl/evenement/midzomerzondagmiddagconcert-nederlands-kamermuziek-ensemble-zondag-22-juni-16-00-uur/
LOCATION:Bomenmuseum\, Velperengh 13\, Doorn\, Utrecht\, 3941BZ\, Nederland
END:VEVENT
BEGIN:VEVENT
DTSTART;TZID=Europe/Amsterdam:20250628T183000
DTEND;TZID=Europe/Amsterdam:20250628T200000
DTSTAMP:20260419T163413
CREATED:20250227T080146Z
LAST-MODIFIED:20250622T144943Z
UID:10001621-1751135400-1751140800@ticket.bomenmuseum.nl
SUMMARY:Themawandeling 'avondfenomenen' | Zaterdag 28 juni
DESCRIPTION:Inloop vanaf 18.30 uur\, start wandeling om 19.00 uur.
URL:https://ticket.bomenmuseum.nl/evenement/themawandeling-avondfenomenen-zaterdag-28-juni/
LOCATION:Bomenmuseum\, Velperengh 13\, Doorn\, Utrecht\, 3941BZ\, Nederland
END:VEVENT
END:VCALENDAR